BEGIN:VCALENDAR
VERSION:2.0
PRODID:-//Library Market//iCal Export//EN
BEGIN:VEVENT
SUMMARY:Study group
UID:146831
DTSTAMP:20260425T120200Z
DTSTART:20260501T130000Z
DTEND:20260501T170000Z
LOCATION:2450 First Street, Fort Myers, FL 33901, United States
ROOM: Main Library Building, Conference Room C (FM)
DESCRIPTION:Study
URL:https://leelibrary.librarymarket.com/event/study-group-146831
END:VEVENT
END:VCALENDAR
