BEGIN:VCALENDAR
VERSION:2.0
PRODID:-//Library Market//iCal Export//EN
BEGIN:VEVENT
SUMMARY:Keep it shut
UID:146830
DTSTAMP:20260425T120200Z
DTSTART:20260501T170000Z
DTEND:20260501T190000Z
LOCATION:921 S.W. 39th Terrace, Cape Coral, FL 33914, United States
ROOM: Meeting Room (CC)
DESCRIPTION:Keep it shut by Karen Ehman
URL:https://leelibrary.librarymarket.com/event/keep-it-shut-146830
END:VEVENT
END:VCALENDAR
