BEGIN:VCALENDAR
VERSION:2.0
PRODID:-//Library Market//iCal Export//EN
BEGIN:VEVENT
SUMMARY:Lee County Diversion Services
UID:146804
DTSTAMP:20260425T120200Z
DTSTART:20260429T133000Z
DTEND:20260429T150000Z
LOCATION:21100 Three Oaks Parkway, Estero, FL 33928, United States
ROOM: Conference Room (SC)
DESCRIPTION:Juvenile Restorative Justice Meeting
URL:https://leelibrary.librarymarket.com/event/lee-county-diversion-servic
 es-146804
END:VEVENT
END:VCALENDAR
