BEGIN:VCALENDAR
VERSION:2.0
PRODID:-//Library Market//iCal Export//EN
BEGIN:VEVENT
SUMMARY:Read to Dogs
UID:146736
DTSTAMP:20260425T152900Z
DTSTART:20260711T150000Z
DTEND:20260711T160000Z
LOCATION:North Fort Myers Public Library, 2001 N Tamiami Trail, North Fort
  Myers, FL 33903, United States
ROOM: Meeting Room AB (NF)
DESCRIPTION:
URL:https://leelibrary.librarymarket.com/event/read-dogs-146736
END:VEVENT
END:VCALENDAR
