BEGIN:VCALENDAR
VERSION:2.0
PRODID:-//Library Market//iCal Export//EN
BEGIN:VEVENT
SUMMARY:American Mah Jongg
UID:146723
DTSTAMP:20260425T120200Z
DTSTART:20260527T163000Z
DTEND:20260527T193000Z
LOCATION:519 Chiquita Blvd. N., Cape Coral, FL 33993, United States
ROOM: Meeting Room BC (NW)
DESCRIPTION:Group playing American Mah Jongg
URL:https://leelibrary.librarymarket.com/event/american-mah-jongg-146723
END:VEVENT
END:VCALENDAR
