BEGIN:VCALENDAR
VERSION:2.0
PRODID:-//Library Market//iCal Export//EN
BEGIN:VEVENT
SUMMARY:Living with Purpose
UID:146656
DTSTAMP:20260425T120200Z
DTSTART:20260427T153000Z
DTEND:20260427T200000Z
LOCATION:15290 Bass Road, Fort Myers, FL 33919, United States
ROOM: Conference Room B (LK)
DESCRIPTION:Meeting to discuss future plans and ideas.
URL:https://leelibrary.librarymarket.com/event/living-purpose-llc-146656
END:VEVENT
END:VCALENDAR
