BEGIN:VCALENDAR
VERSION:2.0
PRODID:-//Library Market//iCal Export//EN
BEGIN:VEVENT
SUMMARY:Taxes in Retirement
UID:146570
DTSTAMP:20260425T221600Z
DTSTART:20260526T220000Z
DTEND:20260526T230000Z
LOCATION:Bonita Springs Public Library, 10560 Reynolds Street, Bonita Spri
 ngs, FL 34135, United States
ROOM: Meeting Room A (BN)
DESCRIPTION:Educational workshop
URL:https://leelibrary.librarymarket.com/event/taxes-retirement-146570
END:VEVENT
END:VCALENDAR
