BEGIN:VCALENDAR
VERSION:2.0
PRODID:-//Library Market//iCal Export//EN
BEGIN:VEVENT
SUMMARY:HOA meeting
UID:146471
DTSTAMP:20260425T120200Z
DTSTART:20260428T223000Z
DTEND:20260428T233000Z
LOCATION:21100 Three Oaks Parkway, Estero, FL 33928, United States
ROOM: Meeting Room (SC)
DESCRIPTION:HOA meeting
URL:https://leelibrary.librarymarket.com/event/hoa-meeting-146471
END:VEVENT
END:VCALENDAR
