BEGIN:VCALENDAR
VERSION:2.0
PRODID:-//Library Market//iCal Export//EN
BEGIN:VEVENT
SUMMARY:Study Session
UID:146390
DTSTAMP:20260419T193500Z
DTSTART:20260421T214500Z
DTEND:20260421T233000Z
LOCATION:15290 Bass Road, Fort Myers, FL 33919, United States
ROOM: Conference Room B (LK)
DESCRIPTION:Studying
URL:https://leelibrary.librarymarket.com/event/personal-study-146390
END:VEVENT
END:VCALENDAR
