BEGIN:VCALENDAR
VERSION:2.0
PRODID:-//Library Market//iCal Export//EN
BEGIN:VEVENT
SUMMARY:2026 2027 Planning Session
UID:146355
DTSTAMP:20260425T120200Z
DTSTART:20260528T140000Z
DTEND:20260528T200000Z
LOCATION:Bonita Springs Public Library, 10560 Reynolds Street, Bonita Spri
 ngs, FL 34135, United States
ROOM: Conference Room 2nd Floor (BN)
DESCRIPTION:Planning session
URL:https://leelibrary.librarymarket.com/event/2026-2027-planning-session-
 146355
END:VEVENT
END:VCALENDAR
