BEGIN:VCALENDAR
VERSION:2.0
PRODID:-//Library Market//iCal Export//EN
BEGIN:VEVENT
SUMMARY:SCORE Chapter Meeting
UID:146341
DTSTAMP:20260420T042000Z
DTSTART:20260429T160000Z
DTEND:20260429T210000Z
LOCATION:1651 Lee St, Fort Myers, FL 33901, United States
ROOM: South Building, Meeting Room AB
DESCRIPTION:This event is a SCORE Chapter volunteer strategic planning ses
 sion.  SCORE offers entrepreneurs free, confidential business mentoring in
  person or\r\nremotely via email, phone and video in all 50 U.S. states an
 d territories. SCORE mentors are experts in entrepreneurship and business 
 operations who volunteer their time to share their expertise with small bu
 siness clients.
URL:https://leelibrary.librarymarket.com/event/score-chapter-meeting-14634
 1
END:VEVENT
END:VCALENDAR
