BEGIN:VCALENDAR
VERSION:2.0
PRODID:-//Library Market//iCal Export//EN
BEGIN:VEVENT
SUMMARY:SWFL Amigas That Craft
UID:146281
DTSTAMP:20260420T211300Z
DTSTART:20260516T164500Z
DTEND:20260516T200000Z
LOCATION:1651 Lee St, Fort Myers, FL 33901, United States
ROOM: South Building, Meeting Room AB
DESCRIPTION:A crafting event for the Amigas group.
URL:https://leelibrary.librarymarket.com/event/swfl-amigas-craft-146281
END:VEVENT
END:VCALENDAR
