BEGIN:VCALENDAR
VERSION:2.0
PRODID:-//Library Market//iCal Export//EN
BEGIN:VEVENT
SUMMARY:COFE Social Security Education
UID:146279
DTSTAMP:20260425T120200Z
DTSTART:20260526T213000Z
DTEND:20260526T233000Z
LOCATION:North Fort Myers Public Library, 2001 N Tamiami Trail, North Fort
  Myers, FL 33903, United States
ROOM: Meeting Room AB (NF)
DESCRIPTION:An educational seminar on how to maximize your social security
 .
URL:https://leelibrary.librarymarket.com/event/cofe-social-security-educat
 ion-146279
END:VEVENT
END:VCALENDAR
