BEGIN:VCALENDAR
VERSION:2.0
PRODID:-//Library Market//iCal Export//EN
BEGIN:VEVENT
SUMMARY:PI Quilters
UID:146005
DTSTAMP:20260419T205400Z
DTSTART:20260417T130000Z
DTEND:20260417T200000Z
LOCATION:10701 Russell Road, Bokeelia, FL 33922, United States
ROOM: Meeting Room (PI)
DESCRIPTION:Local group meets to sew quilts for charity.
URL:https://leelibrary.librarymarket.com/event/pi-quilters-146005
END:VEVENT
END:VCALENDAR
