BEGIN:VCALENDAR
VERSION:2.0
PRODID:-//Library Market//iCal Export//EN
BEGIN:VEVENT
SUMMARY:VCC Mahjong
UID:144027
DTSTAMP:20260420T035400Z
DTSTART:20260501T170000Z
DTEND:20260501T200000Z
LOCATION:21100 Three Oaks Parkway, Estero, FL 33928, United States
ROOM: Meeting Room (SC)
DESCRIPTION:Mahjong game
URL:https://leelibrary.librarymarket.com/event/vcc-mahjong-144027
END:VEVENT
END:VCALENDAR
